BEGIN:VCALENDAR
VERSION:2.0
PRODID:-//eventon.com NONSGML v1.0//EN
BEGIN:VEVENT
UID:69ea0ebece0e4
DTSTAMP:20260423T142118
DTSTART:20191019T150000Z
DTEND:20191019T170000Z
TZID:UTC
LOCATION:
SUMMARY:Rabbit shotgun 1e 9 holes
DESCRIPTION: Rabbit shotgun 1e 9 holes\nhttps://leden.golfclubdekoepel.nl/events/rabbit-shotgun-1e-9-holes-7/
URL:https://leden.golfclubdekoepel.nl/events/rabbit-shotgun-1e-9-holes-7/
END:VEVENT
END:VCALENDAR