BEGIN:VCALENDAR
VERSION:2.0
PRODID:-//eventon.com NONSGML v1.0//EN
BEGIN:VEVENT
UID:69eab8ef6209f
DTSTAMP:20260424T022727
DTSTART:20190620T160000Z
DTEND:20190620T180000Z
TZID:UTC
LOCATION:
SUMMARY:Bedrijventoernooi\,  shotgun 9 holes
DESCRIPTION: Er wordt gespeeld op de 2e negen holes. Vanaf ca. 14.10 uur is het niet meer mogelijk om op hole 10 te spelen.\nhttps://leden.golfclubdekoepel.nl/events/bedrijventoernooi-shotgun-9-holes/
URL:https://leden.golfclubdekoepel.nl/events/bedrijventoernooi-shotgun-9-holes/
END:VEVENT
END:VCALENDAR