BEGIN:VCALENDAR
VERSION:2.0
PRODID:-//eventon.com NONSGML v1.0//EN
BEGIN:VEVENT
UID:69e91b19be36e
DTSTAMP:20260422T210145
DTSTART:20190403T163000Z
DTEND:20190403T164000Z
TZID:UTC
LOCATION:
SUMMARY:Koepelaars
DESCRIPTION: Start middels een 9 holes shotgun op de 1e negen holes\nhttps://leden.golfclubdekoepel.nl/events/koepelaars-2/
URL:https://leden.golfclubdekoepel.nl/events/koepelaars-2/
END:VEVENT
END:VCALENDAR