BEGIN:VCALENDAR
VERSION:2.0
PRODID:-//eventon.com NONSGML v1.0//EN
BEGIN:VEVENT
UID:69e74a0884f1e
DTSTAMP:20260421T115728
DTSTART:20190405T163000Z
DTEND:20190405T164000Z
TZID:UTC
LOCATION:
SUMMARY:d'Hooghe Heeren\,  shotgun
DESCRIPTION: d'Hooghe Heeren\,  shotgun\nhttps://leden.golfclubdekoepel.nl/events/dhooghe-heeren-shotgun/
URL:https://leden.golfclubdekoepel.nl/events/dhooghe-heeren-shotgun/
END:VEVENT
END:VCALENDAR