BEGIN:VCALENDAR
VERSION:2.0
PRODID:-//eventon.com NONSGML v1.0//EN
BEGIN:VEVENT
UID:69ed851da8410
DTSTAMP:20260426T052309
DTSTART:20190423T163000Z
DTEND:20190423T164000Z
TZID:UTC
LOCATION:
SUMMARY:Toppers\,  shotgun
DESCRIPTION: Starten middels een shotgun op de eerste negen holes\nhttps://leden.golfclubdekoepel.nl/events/toppers-shotgun/
URL:https://leden.golfclubdekoepel.nl/events/toppers-shotgun/
END:VEVENT
END:VCALENDAR