BEGIN:VCALENDAR
VERSION:2.0
PRODID:-//eventon.com NONSGML v1.0//EN
BEGIN:VEVENT
UID:69e8de1702278
DTSTAMP:20260422T164127
DTSTART:20190625T123000Z
DTEND:20190625T125000Z
TZID:UTC
LOCATION:
SUMMARY:Greenfee\,  9 gasten
DESCRIPTION: Greenfee\,  9 gasten\nhttps://leden.golfclubdekoepel.nl/events/greenfee-9-gasten/
URL:https://leden.golfclubdekoepel.nl/events/greenfee-9-gasten/
END:VEVENT
END:VCALENDAR