BEGIN:VCALENDAR
VERSION:2.0
PRODID:-//eventon.com NONSGML v1.0//EN
BEGIN:VEVENT
UID:69e67f069eed5
DTSTAMP:20260420T213118
DTSTART:20190629T113000Z
DTEND:20190629T114500Z
TZID:UTC
LOCATION:
SUMMARY:Greenfee\,  6 gasten
DESCRIPTION: Greenfee\,  6 gasten\nhttps://leden.golfclubdekoepel.nl/events/greenfee-6-gasten-10/
URL:https://leden.golfclubdekoepel.nl/events/greenfee-6-gasten-10/
END:VEVENT
END:VCALENDAR