BEGIN:VCALENDAR
VERSION:2.0
PRODID:-//eventon.com NONSGML v1.0//EN
BEGIN:VEVENT
UID:69ea8e1abf12b
DTSTAMP:20260423T232442
DTSTART:20190724T133000Z
DTEND:20190724T134000Z
TZID:UTC
LOCATION:
SUMMARY:Greenfee\,  2 gasten
DESCRIPTION: Greenfee\,  2 gasten\nhttps://leden.golfclubdekoepel.nl/events/greenfee-2-gasten-59/
URL:https://leden.golfclubdekoepel.nl/events/greenfee-2-gasten-59/
END:VEVENT
END:VCALENDAR