BEGIN:VCALENDAR
VERSION:2.0
PRODID:-//eventon.com NONSGML v1.0//EN
BEGIN:VEVENT
UID:69ecf9866b918
DTSTAMP:20260425T192734
DTSTART:20190624T100000Z
DTEND:20190624T101000Z
TZID:UTC
LOCATION:
SUMMARY:MDS Double
DESCRIPTION: MDS Double\nhttps://leden.golfclubdekoepel.nl/events/mds-double-6/
URL:https://leden.golfclubdekoepel.nl/events/mds-double-6/
END:VEVENT
END:VCALENDAR