BEGIN:VCALENDAR
VERSION:2.0
PRODID:-//eventon.com NONSGML v1.0//EN
BEGIN:VEVENT
UID:69e748c6d2cd9
DTSTAMP:20260421T115206
DTSTART:20190630T101000Z
DTEND:20190630T102100Z
TZID:UTC
LOCATION:
SUMMARY:Greenfee 5 personen
DESCRIPTION: Greenfee 5 personen\nhttps://leden.golfclubdekoepel.nl/events/greenfee-5-personen-2/
URL:https://leden.golfclubdekoepel.nl/events/greenfee-5-personen-2/
END:VEVENT
END:VCALENDAR