BEGIN:VCALENDAR
VERSION:2.0
PRODID:-//eventon.com NONSGML v1.0//EN
BEGIN:VEVENT
UID:69ea4a008f880
DTSTAMP:20260423T183408
DTSTART:20190706T090000Z
DTEND:20190706T150000Z
TZID:UTC
LOCATION:
SUMMARY:Greenfee\,  4 gasten
DESCRIPTION: Greenfee\,  4 gasten\nhttps://leden.golfclubdekoepel.nl/events/greenfee-4-gasten-3/
URL:https://leden.golfclubdekoepel.nl/events/greenfee-4-gasten-3/
END:VEVENT
END:VCALENDAR