BEGIN:VCALENDAR
VERSION:2.0
PRODID:-//eventon.com NONSGML v1.0//EN
BEGIN:VEVENT
UID:69e76f9debc03
DTSTAMP:20260421T143749
DTSTART:20190706T153000Z
DTEND:20190706T163000Z
TZID:UTC
LOCATION:
SUMMARY:Jeugdkampioenschappen
DESCRIPTION: Jeugdkampioenschappen\nhttps://leden.golfclubdekoepel.nl/events/jeugdkampioenschappen/
URL:https://leden.golfclubdekoepel.nl/events/jeugdkampioenschappen/
END:VEVENT
END:VCALENDAR