BEGIN:VCALENDAR
VERSION:2.0
PRODID:-//eventon.com NONSGML v1.0//EN
BEGIN:VEVENT
UID:69ebc6ebcb4b5
DTSTAMP:20260424T213923
DTSTART:20190902T110000Z
DTEND:20190902T115000Z
TZID:UTC
LOCATION:
SUMMARY:Greenfee 18 gasten
DESCRIPTION: Greenfee 18 gasten\nhttps://leden.golfclubdekoepel.nl/events/greenfee-18-gasten/
URL:https://leden.golfclubdekoepel.nl/events/greenfee-18-gasten/
END:VEVENT
END:VCALENDAR