BEGIN:VCALENDAR
VERSION:2.0
PRODID:-//eventon.com NONSGML v1.0//EN
BEGIN:VEVENT
UID:69e4eea65724b
DTSTAMP:20260419T170302
DTSTART:20190708T120000Z
DTEND:20190708T125000Z
TZID:UTC
LOCATION:
SUMMARY:Greenfee 7 gasten (18-holes)
DESCRIPTION: Greenfee 7 gasten (18-holes)\nhttps://leden.golfclubdekoepel.nl/events/greenfee-7-gasten-18-holes/
URL:https://leden.golfclubdekoepel.nl/events/greenfee-7-gasten-18-holes/
END:VEVENT
END:VCALENDAR