BEGIN:VCALENDAR
VERSION:2.0
PRODID:-//eventon.com NONSGML v1.0//EN
BEGIN:VEVENT
UID:69ea4489ced79
DTSTAMP:20260423T181049
DTSTART:20190708T130000Z
DTEND:20190708T131000Z
TZID:UTC
LOCATION:
SUMMARY:Greenfee 4 gasten (18-holes)
DESCRIPTION: Greenfee 4 gasten (18-holes)\nhttps://leden.golfclubdekoepel.nl/events/greenfee-4-gasten-18-holes-5/
URL:https://leden.golfclubdekoepel.nl/events/greenfee-4-gasten-18-holes-5/
END:VEVENT
END:VCALENDAR