BEGIN:VCALENDAR
VERSION:2.0
PRODID:-//eventon.com NONSGML v1.0//EN
BEGIN:VEVENT
UID:69e57ed8d04ff
DTSTAMP:20260420T031816
DTSTART:20190709T121000Z
DTEND:20190709T122000Z
TZID:UTC
LOCATION:
SUMMARY:Greenfee 4 gasten (18-holes)
DESCRIPTION: Greenfee 4 gasten (18-holes)\nhttps://leden.golfclubdekoepel.nl/events/greenfee-4-gasten-18-holes-6/
URL:https://leden.golfclubdekoepel.nl/events/greenfee-4-gasten-18-holes-6/
END:VEVENT
END:VCALENDAR