BEGIN:VCALENDAR
VERSION:2.0
PRODID:-//eventon.com NONSGML v1.0//EN
BEGIN:VEVENT
UID:69ed1274a6fb2
DTSTAMP:20260425T211356
DTSTART:20190715T140000Z
DTEND:20190715T141000Z
TZID:UTC
LOCATION:
SUMMARY:Greenfee 3 gasten (18-holes)
DESCRIPTION: Greenfee 3 gasten (18-holes)\nhttps://leden.golfclubdekoepel.nl/events/greenfee-3-gasten-18-holes-4/
URL:https://leden.golfclubdekoepel.nl/events/greenfee-3-gasten-18-holes-4/
END:VEVENT
END:VCALENDAR