BEGIN:VCALENDAR
VERSION:2.0
PRODID:-//eventon.com NONSGML v1.0//EN
BEGIN:VEVENT
UID:69e5c2a13520f
DTSTAMP:20260420T080729
DTSTART:20190719T111000Z
DTEND:20190719T112000Z
TZID:UTC
LOCATION:
SUMMARY:2 x greenfee
DESCRIPTION: 2 x greenfee\nhttps://leden.golfclubdekoepel.nl/events/2-x-greenfee-9/
URL:https://leden.golfclubdekoepel.nl/events/2-x-greenfee-9/
END:VEVENT
END:VCALENDAR