BEGIN:VCALENDAR
VERSION:2.0
PRODID:-//eventon.com NONSGML v1.0//EN
BEGIN:VEVENT
UID:69e748c171851
DTSTAMP:20260421T115201
DTSTART:20190719T140000Z
DTEND:20190719T141000Z
TZID:UTC
LOCATION:
SUMMARY:2 x greenfee
DESCRIPTION: 2 x greenfee\nhttps://leden.golfclubdekoepel.nl/events/2-x-greenfee-12/
URL:https://leden.golfclubdekoepel.nl/events/2-x-greenfee-12/
END:VEVENT
END:VCALENDAR