BEGIN:VCALENDAR
VERSION:2.0
PRODID:-//eventon.com NONSGML v1.0//EN
BEGIN:VEVENT
UID:69ed81527d3c9
DTSTAMP:20260426T050658
DTSTART:20190721T080000Z
DTEND:20190721T081500Z
TZID:UTC
LOCATION:
SUMMARY:5 x greenfee (9holes)
DESCRIPTION: 5 x greenfee (9holes)\nhttps://leden.golfclubdekoepel.nl/events/5-x-greenfee-9holes/
URL:https://leden.golfclubdekoepel.nl/events/5-x-greenfee-9holes/
END:VEVENT
END:VCALENDAR