BEGIN:VCALENDAR
VERSION:2.0
PRODID:-//eventon.com NONSGML v1.0//EN
BEGIN:VEVENT
UID:69ea67b74407d
DTSTAMP:20260423T204055
DTSTART:20190722T120000Z
DTEND:20190722T122400Z
TZID:UTC
LOCATION:
SUMMARY:greenfee 8 x
DESCRIPTION: greenfee 8 x\nhttps://leden.golfclubdekoepel.nl/events/greenfee-8-x/
URL:https://leden.golfclubdekoepel.nl/events/greenfee-8-x/
END:VEVENT
END:VCALENDAR