BEGIN:VCALENDAR
VERSION:2.0
PRODID:-//eventon.com NONSGML v1.0//EN
BEGIN:VEVENT
UID:69ecde7e16931
DTSTAMP:20260425T173214
DTSTART:20190725T160000Z
DTEND:20190725T162000Z
TZID:UTC
LOCATION:
SUMMARY:greenfee 6 x
DESCRIPTION: greenfee 6 x\nhttps://leden.golfclubdekoepel.nl/events/greenfee-6-x/
URL:https://leden.golfclubdekoepel.nl/events/greenfee-6-x/
END:VEVENT
END:VCALENDAR