BEGIN:VCALENDAR
VERSION:2.0
PRODID:-//eventon.com NONSGML v1.0//EN
BEGIN:VEVENT
UID:69eb2ce635002
DTSTAMP:20260424T104214
DTSTART:20190726T110000Z
DTEND:20190726T111500Z
TZID:UTC
LOCATION:
SUMMARY:greenfee 2 x
DESCRIPTION: greenfee 2 x\nhttps://leden.golfclubdekoepel.nl/events/greenfee-2-x-7/
URL:https://leden.golfclubdekoepel.nl/events/greenfee-2-x-7/
END:VEVENT
END:VCALENDAR