BEGIN:VCALENDAR
VERSION:2.0
PRODID:-//eventon.com NONSGML v1.0//EN
BEGIN:VEVENT
UID:69eb2e731f09a
DTSTAMP:20260424T104851
DTSTART:20190729T093000Z
DTEND:20190729T094000Z
TZID:UTC
LOCATION:
SUMMARY:greenfee 2 x
DESCRIPTION: greenfee 2 x\nhttps://leden.golfclubdekoepel.nl/events/greenfee-2-x-9/
URL:https://leden.golfclubdekoepel.nl/events/greenfee-2-x-9/
END:VEVENT
END:VCALENDAR