BEGIN:VCALENDAR
VERSION:2.0
PRODID:-//eventon.com NONSGML v1.0//EN
BEGIN:VEVENT
UID:69ed33701ed20
DTSTAMP:20260425T233440
DTSTART:20190730T110000Z
DTEND:20190730T111000Z
TZID:UTC
LOCATION:
SUMMARY:greenfee 2 x
DESCRIPTION: greenfee 2 x\nhttps://leden.golfclubdekoepel.nl/events/greenfee-2-x-10/
URL:https://leden.golfclubdekoepel.nl/events/greenfee-2-x-10/
END:VEVENT
END:VCALENDAR