BEGIN:VCALENDAR
VERSION:2.0
PRODID:-//eventon.com NONSGML v1.0//EN
BEGIN:VEVENT
UID:69ea67b6e2a9a
DTSTAMP:20260423T204054
DTSTART:20190730T120000Z
DTEND:20190730T121000Z
TZID:UTC
LOCATION:
SUMMARY:greenfee 2 x
DESCRIPTION: greenfee 2 x\nhttps://leden.golfclubdekoepel.nl/events/greenfee-2-x-12/
URL:https://leden.golfclubdekoepel.nl/events/greenfee-2-x-12/
END:VEVENT
END:VCALENDAR