BEGIN:VCALENDAR
VERSION:2.0
PRODID:-//eventon.com NONSGML v1.0//EN
BEGIN:VEVENT
UID:69e534c874aff
DTSTAMP:20260419T220216
DTSTART:20190731T132000Z
DTEND:20190731T134500Z
TZID:UTC
LOCATION:
SUMMARY:greenfee 12 x
DESCRIPTION: greenfee 12 x\nhttps://leden.golfclubdekoepel.nl/events/greenfee-12-x/
URL:https://leden.golfclubdekoepel.nl/events/greenfee-12-x/
END:VEVENT
END:VCALENDAR