BEGIN:VCALENDAR
VERSION:2.0
PRODID:-//eventon.com NONSGML v1.0//EN
BEGIN:VEVENT
UID:69e50b91c9958
DTSTAMP:20260419T190625
DTSTART:20190802T120000Z
DTEND:20190802T122000Z
TZID:UTC
LOCATION:
SUMMARY:greenfee 8 x
DESCRIPTION: greenfee 8 x\nhttps://leden.golfclubdekoepel.nl/events/greenfee-8-x-2/
URL:https://leden.golfclubdekoepel.nl/events/greenfee-8-x-2/
END:VEVENT
END:VCALENDAR