BEGIN:VCALENDAR
VERSION:2.0
PRODID:-//eventon.com NONSGML v1.0//EN
BEGIN:VEVENT
UID:69e830c283acd
DTSTAMP:20260422T042154
DTSTART:20190809T160000Z
DTEND:20190809T162000Z
TZID:UTC
LOCATION:
SUMMARY:greenfee 4 x
DESCRIPTION: greenfee 4 x\nhttps://leden.golfclubdekoepel.nl/events/greenfee-4-x-7/
URL:https://leden.golfclubdekoepel.nl/events/greenfee-4-x-7/
END:VEVENT
END:VCALENDAR