BEGIN:VCALENDAR
VERSION:2.0
PRODID:-//eventon.com NONSGML v1.0//EN
BEGIN:VEVENT
UID:69e73b9260bd1
DTSTAMP:20260421T105546
DTSTART:20190815T083000Z
DTEND:20190815T084500Z
TZID:UTC
LOCATION:
SUMMARY:greenfee 4 x
DESCRIPTION: greenfee 4 x\nhttps://leden.golfclubdekoepel.nl/events/greenfee-4-x-8/
URL:https://leden.golfclubdekoepel.nl/events/greenfee-4-x-8/
END:VEVENT
END:VCALENDAR