BEGIN:VCALENDAR
VERSION:2.0
PRODID:-//eventon.com NONSGML v1.0//EN
BEGIN:VEVENT
UID:69ea8d836f016
DTSTAMP:20260423T232211
DTSTART:20190817T110000Z
DTEND:20190817T111000Z
TZID:UTC
LOCATION:
SUMMARY:greenfee 4 x
DESCRIPTION: greenfee 4 x\nhttps://leden.golfclubdekoepel.nl/events/greenfee-4-x-10/
URL:https://leden.golfclubdekoepel.nl/events/greenfee-4-x-10/
END:VEVENT
END:VCALENDAR