BEGIN:VCALENDAR
VERSION:2.0
PRODID:-//eventon.com NONSGML v1.0//EN
BEGIN:VEVENT
UID:69ed322acd523
DTSTAMP:20260425T232914
DTSTART:20190817T111500Z
DTEND:20190817T113000Z
TZID:UTC
LOCATION:
SUMMARY:greenfee 2 x
DESCRIPTION: greenfee 2 x\nhttps://leden.golfclubdekoepel.nl/events/greenfee-2-x-20/
URL:https://leden.golfclubdekoepel.nl/events/greenfee-2-x-20/
END:VEVENT
END:VCALENDAR