BEGIN:VCALENDAR
VERSION:2.0
PRODID:-//eventon.com NONSGML v1.0//EN
BEGIN:VEVENT
UID:69e748e1588be
DTSTAMP:20260421T115233
DTSTART:20190825T130000Z
DTEND:20190825T150000Z
TZID:UTC
LOCATION:
SUMMARY:Blind date Mix
DESCRIPTION: Blind date Mix\nhttps://leden.golfclubdekoepel.nl/events/blind-date-mix/
URL:https://leden.golfclubdekoepel.nl/events/blind-date-mix/
END:VEVENT
END:VCALENDAR