BEGIN:VCALENDAR
VERSION:2.0
PRODID:-//eventon.com NONSGML v1.0//EN
BEGIN:VEVENT
UID:69e8ec0f1c8c0
DTSTAMP:20260422T174103
DTSTART:20190830T120000Z
DTEND:20190830T121000Z
TZID:UTC
LOCATION:
SUMMARY:greenfee 2 x
DESCRIPTION: greenfee 2 x\nhttps://leden.golfclubdekoepel.nl/events/greenfee-2-x-22/
URL:https://leden.golfclubdekoepel.nl/events/greenfee-2-x-22/
END:VEVENT
END:VCALENDAR